Workbook
Name 機械種別: マスタ!$C$2:$C$10
Name 松代: #REF!
Name 松之山: #REF!
Name 川西: #REF!
Name 装置: マスタ!$P$2:$P$5
Name 装置規格: マスタ!$Q$2:$Q$15
Name 単価区分1: マスタ!$B$2:$B$4
Name 単価区分AB: マスタ!$N$2:$N$3
Name 地域: マスタ!$A$2:$A$6
Name 中里: #REF!
Name 排気ガス規制: マスタ!$M$2:$M$5
Name 本庁: #REF!

Sheet 機械台帳
A1: 除雪機械一覧
A3: ※自動車車検証、道路維持作業用自動車届出確認証、任意保険証書のコピーを添付して提出。
A4: ※回送が必要な機械については、備考欄に記載してください。
A5: ※規格について
A6: 除雪ドーザ：（ｔ級）表示、プラウ種別も記載（Ａ、ＳＡ、Ｍプラウまたはバケット）
A7: ロータリ除雪車・小型除雪車・小型除雪機（ハンドガイド）・トラクタ：（kW級もしくはPS級）表示
A8: 除雪グレーダ：（ｍ級）表示
A9: ダンプトラック：（ｔ積もしくは嵩上げ）表示・ロング（長尺）ダンプは嵩上げ扱いとします。
A10: バックホウ：（山積㎥）表示・バケットサイズを標準以外に変えても単価は変わりません。特殊仕様の機種は、備考欄へ記載してください。
A12: No | B12: 地域 | C12: 受託者 | D12: 単価区分1 | E12: 機械種別 | F12: 規格 | G12: 排気ガス規制 | H12: 初度登録 | I12: 経過年数 | J12: 単価区分AB | K12: 助手なし | L12: 装置 | M12: 装置規格 | N12: 登録番号 | O12: 機械呼称 | P12: 備考 | Q12: 委託 昼 | R12: 委託 夜 | S12: 委託 深夜 | T12: 借上 昼 | U12: 借上 夜 | V12: 借上 深夜
A13: 1 | B13: 本庁 | I13: =IF(H13="","",DATEDIF(H13,DATEVALUE("2022/11/1"),"M")/12) | J13: =IF(I13="","",IF(I13>=INDEX(マスタ!$C$2:$L$10,MATCH(E13,機械種別,0),10),"B","A"))
A14: 2 | B14: 本庁 | I14: =IF(H14="","",DATEDIF(H14,DATEVALUE("2022/11/1"),"M")/12) | J14: =IF(I14="","",IF(I14>=INDEX(マスタ!$C$2:$L$10,MATCH(E14,機械種別,0),10),"B","A"))
A15: 3 | B15: 本庁 | I15: =IF(H15="","",DATEDIF(H15,DATEVALUE("2022/11/1"),"M")/12) | J15: =IF(I15="","",IF(I15>=INDEX(マスタ!$C$2:$L$10,MATCH(E15,機械種別,0),10),"B","A"))
A16: 4 | B16: 本庁 | I16: =IF(H16="","",DATEDIF(H16,DATEVALUE("2022/11/1"),"M")/12) | J16: =IF(I16="","",IF(I16>=INDEX(マスタ!$C$2:$L$10,MATCH(E16,機械種別,0),10),"B","A"))
A17: 5 | B17: 本庁 | I17: =IF(H17="","",DATEDIF(H17,DATEVALUE("2022/11/1"),"M")/12) | J17: =IF(I17="","",IF(I17>=INDEX(マスタ!$C$2:$L$10,MATCH(E17,機械種別,0),10),"B","A"))
A18: 6 | B18: 本庁 | I18: =IF(H18="","",DATEDIF(H18,DATEVALUE("2022/11/1"),"M")/12) | J18: =IF(I18="","",IF(I18>=INDEX(マスタ!$C$2:$L$10,MATCH(E18,機械種別,0),10),"B","A"))
A19: 7 | B19: 本庁 | I19: =IF(H19="","",DATEDIF(H19,DATEVALUE("2022/11/1"),"M")/12) | J19: =IF(I19="","",IF(I19>=INDEX(マスタ!$C$2:$L$10,MATCH(E19,機械種別,0),10),"B","A"))
A20: 8 | B20: 本庁 | I20: =IF(H20="","",DATEDIF(H20,DATEVALUE("2022/11/1"),"M")/12) | J20: =IF(I20="","",IF(I20>=INDEX(マスタ!$C$2:$L$10,MATCH(E20,機械種別,0),10),"B","A"))
A21: 9 | B21: 本庁 | I21: =IF(H21="","",DATEDIF(H21,DATEVALUE("2022/11/1"),"M")/12) | J21: =IF(I21="","",IF(I21>=INDEX(マスタ!$C$2:$L$10,MATCH(E21,機械種別,0),10),"B","A"))
A22: 10 | B22: 本庁 | I22: =IF(H22="","",DATEDIF(H22,DATEVALUE("2022/11/1"),"M")/12) | J22: =IF(I22="","",IF(I22>=INDEX(マスタ!$C$2:$L$10,MATCH(E22,機械種別,0),10),"B","A"))
A23: 11 | B23: 本庁 | I23: =IF(H23="","",DATEDIF(H23,DATEVALUE("2022/11/1"),"M")/12) | J23: =IF(I23="","",IF(I23>=INDEX(マスタ!$C$2:$L$10,MATCH(E23,機械種別,0),10),"B","A"))
A24: 12 | B24: 本庁 | I24: =IF(H24="","",DATEDIF(H24,DATEVALUE("2022/11/1"),"M")/12) | J24: =IF(I24="","",IF(I24>=INDEX(マスタ!$C$2:$L$10,MATCH(E24,機械種別,0),10),"B","A"))
... A32: 20 | B32: 本庁 | I32: =IF(H32="","",DATEDIF(H32,DATEVALUE("2022/11/1"),"M")/12) | J32: =IF(I32="","",IF(I32>=INDEX(マスタ!$C$2:$L$10,MATCH(E32,機械種別,0),10),"B","A"))

Sheet 機械台帳 (記入例)
A1: 除雪機械一覧（記入例）
A3: ※自動車車検証、道路維持作業用自動車届出確認証、任意保険証書のコピーを添付して提出。
A4: ※回送が必要な機械については、備考欄に記載してください。
A5: ※規格について
A6: 除雪ドーザ：（ｔ級）表示、プラウ種別も記載（Ａ、ＳＡ、Ｍプラウまたはバケット）
A7: ロータリ除雪車・小型除雪車・小型除雪機（ハンドガイド）・トラクタ：（kW級もしくはPS級）表示
A8: 除雪グレーダ：（ｍ級）表示
A9: ダンプトラック：（ｔ積もしくは嵩上げ）表示・ロング（長尺）ダンプは嵩上げ扱いとします。
A10: バックホウ：（山積㎥）表示・バケットサイズを標準以外に変えても単価は変わりません。特殊仕様の機種は、備考欄へ記載してください。
A12: No | B12: 地域 | C12: 受託者 | D12: 単価区分1 | E12: 機械種別 | F12: 規格 | G12: 排気ガス規制 | H12: 初度登録 | I12: 経過年数 | J12: 単価区分AB | K12: 助手なし | L12: 装置 | M12: 装置規格 | N12: 登録番号 | O12: 機械呼称 | P12: 委託 昼 | Q12: 委託 夜 | R12: 委託 深夜 | S12: 借上 昼 | T12: 借上 夜 | U12: 借上 深夜
A13: 1 | B13: 本庁 | C13: 十日町建設工業 | D13: 貸与 | E13: ロータリ除雪車 | F13: 220kw | G13: 3次以上 | H13: 40118 | I13: =IF(H13="","",DATEDIF(H13,DATEVALUE("2022/11/1"),"M")/12) -> 13 | J13: =IF(I13="","",IF(I13>=INDEX(マスタ!$C$2:$L$10,MATCH(E13,機械種別,0),10),"B","A")) -> A | N13: 長岡900る○○○○ | O13: NR301
A14: 2 | B14: 本庁 | C14: 十日町建設工業 | D14: 業者 | E14: 除雪ドーザ(車輪式) | F14: 13～14t | G14: 3次以上 | H14: 43040 | I14: =IF(H14="","",DATEDIF(H14,DATEVALUE("2022/11/1"),"M")/12) -> 5 | J14: =IF(I14="","",IF(I14>=INDEX(マスタ!$C$2:$L$10,MATCH(E14,機械種別,0),10),"B","A")) -> A | L14: SAプラウ | M14: 13～14t | N14: 長岡△△め×××× | O14: WA270-8Y
A15: 3 | B15: 本庁 | C15: 十日町建設工業 | D15: 業者 | E15: 除雪ドーザ(車輪式) | F15: 13～14t | G15: 3次以上 | H15: 43040 | I15: =IF(H15="","",DATEDIF(H15,DATEVALUE("2022/11/1"),"M")/12) -> 5 | J15: =IF(I15="","",IF(I15>=INDEX(マスタ!$C$2:$L$10,MATCH(E15,機械種別,0),10),"B","A")) -> A | K15: 助手なし | L15: SAプラウ | M15: 13～14t | N15: 長岡△△め×××× | O15: WA270-8Y
A16: 4 | B16: 本庁 | C16: 十日町建設工業 | D16: 業者 | E16: 除雪ドーザ(履帯式) | F16: 4～5t | G16: なし | H16: 33147 | I16: =IF(H16="","",DATEDIF(H16,DATEVALUE("2022/11/1"),"M")/12) -> 32.083333 | J16: =IF(I16="","",IF(I16>=INDEX(マスタ!$C$2:$L$10,MATCH(E16,機械種別,0),10),"B","A")) -> B | K16: 助手なし | N16: №123456 | O16: D20P-6
A17: 5 | B17: 本庁 | C17: 十日町建設工業 | D17: 業者 | E17: 小型除雪機(ﾊﾝﾄﾞｶﾞｲﾄﾞ式) | F17: 28kw | H17: 38261 | I17: =IF(H17="","",DATEDIF(H17,DATEVALUE("2022/11/1"),"M")/12) -> 18.083333 | J17: =IF(I17="","",IF(I17>=INDEX(マスタ!$C$2:$L$10,MATCH(E17,機械種別,0),10),"B","A")) -> B | K17: 助手なし | N17: AB987CD | O17: YSR-3430
A18: 6 | B18: 本庁 | C18: 十日町建設工業 | D18: 業者 | E18: ﾀﾞﾝﾌﾟﾄﾗｯｸ | F18: 10t | H18: 40664 | I18: =IF(H18="","",DATEDIF(H18,DATEVALUE("2022/11/1"),"M")/12) -> 11.5 | J18: =IF(I18="","",IF(I18>=INDEX(マスタ!$C$2:$L$10,MATCH(E18,機械種別,0),10),"B","A")) -> B | K18: 助手なし | N18: 長岡△△め□□□□ | O18: ○○○
A19: 7 | B19: 本庁 | C19: 十日町建設工業 | D19: 業者 | E19: バックホウ | F19: 0.28㎥ | G19: 1次 | H19: 36800 | I19: =IF(H19="","",DATEDIF(H19,DATEVALUE("2022/11/1"),"M")/12) -> 22.083333 | J19: =IF(I19="","",IF(I19>=INDEX(マスタ!$C$2:$L$10,MATCH(E19,機械種別,0),10),"B","A")) -> B | K19: 助手なし | N19: №98765 | O19: 307B
A20: 8 | B20: 本庁 | C20: 十日町建設工業 | D20: 業者 | E20: 除雪ドーザ(車輪式) | F20: 13～14t | G20: 3次以上 | H20: 43405 | I20: =IF(H20="","",DATEDIF(H20,DATEVALUE("2022/11/1"),"M")/12) -> 4 | J20: =IF(I20="","",IF(I20>=INDEX(マスタ!$C$2:$L$10,MATCH(E20,機械種別,0),10),"B","A")) -> A | L20: SAプラウ | M20: 13～14t | N20: 長岡△△め×××× | O20: WA270-8Y
A21: 9 | B21: 本庁 | I21: =IF(H21="","",DATEDIF(H21,DATEVALUE("2022/11/1"),"M")/12) | J21: =IF(I21="","",IF(I21>=INDEX(マスタ!$C$2:$L$10,MATCH(E21,機械種別,0),10),"B","A"))
A22: 10 | B22: 本庁 | I22: =IF(H22="","",DATEDIF(H22,DATEVALUE("2022/11/1"),"M")/12) | J22: =IF(I22="","",IF(I22>=INDEX(マスタ!$C$2:$L$10,MATCH(E22,機械種別,0),10),"B","A"))
A23: 11 | B23: 本庁 | I23: =IF(H23="","",DATEDIF(H23,DATEVALUE("2022/11/1"),"M")/12) | J23: =IF(I23="","",IF(I23>=INDEX(マスタ!$C$2:$L$10,MATCH(E23,機械種別,0),10),"B","A"))
A24: 12 | B24: 本庁 | I24: =IF(H24="","",DATEDIF(H24,DATEVALUE("2022/11/1"),"M")/12) | J24: =IF(I24="","",IF(I24>=INDEX(マスタ!$C$2:$L$10,MATCH(E24,機械種別,0),10),"B","A"))
A25: 13 | B25: 本庁 | I25: =IF(H25="","",DATEDIF(H25,DATEVALUE("2022/11/1"),"M")/12) | J25: =IF(I25="","",IF(I25>=INDEX(マスタ!$C$2:$L$10,MATCH(E25,機械種別,0),10),"B","A"))
A26: 14 | B26: 本庁 | I26: =IF(H26="","",DATEDIF(H26,DATEVALUE("2022/11/1"),"M")/12) | J26: =IF(I26="","",IF(I26>=INDEX(マスタ!$C$2:$L$10,MATCH(E26,機械種別,0),10),"B","A"))
A27: 15 | B27: 本庁 | I27: =IF(H27="","",DATEDIF(H27,DATEVALUE("2022/11/1"),"M")/12) | J27: =IF(I27="","",IF(I27>=INDEX(マスタ!$C$2:$L$10,MATCH(E27,機械種別,0),10),"B","A"))
A28: 16 | B28: 本庁 | I28: =IF(H28="","",DATEDIF(H28,DATEVALUE("2022/11/1"),"M")/12) | J28: =IF(I28="","",IF(I28>=INDEX(マスタ!$C$2:$L$10,MATCH(E28,機械種別,0),10),"B","A"))
A29: 17 | B29: 本庁 | I29: =IF(H29="","",DATEDIF(H29,DATEVALUE("2022/11/1"),"M")/12) | J29: =IF(I29="","",IF(I29>=INDEX(マスタ!$C$2:$L$10,MATCH(E29,機械種別,0),10),"B","A"))
A30: 18 | B30: 本庁 | I30: =IF(H30="","",DATEDIF(H30,DATEVALUE("2022/11/1"),"M")/12) | J30: =IF(I30="","",IF(I30>=INDEX(マスタ!$C$2:$L$10,MATCH(E30,機械種別,0),10),"B","A"))
A31: 19 | B31: 本庁 | I31: =IF(H31="","",DATEDIF(H31,DATEVALUE("2022/11/1"),"M")/12) | J31: =IF(I31="","",IF(I31>=INDEX(マスタ!$C$2:$L$10,MATCH(E31,機械種別,0),10),"B","A"))
A32: 20 | B32: 本庁 | I32: =IF(H32="","",DATEDIF(H32,DATEVALUE("2022/11/1"),"M")/12) | J32: =IF(I32="","",IF(I32>=INDEX(マスタ!$C$2:$L$10,MATCH(E32,機械種別,0),10),"B","A"))

Sheet マスタ
A1: 地域 | B1: 単価区分1 | C1: 機械種別 | D1: 規格 | L1: AB判定 | M1: 排気ガス規制 | N1: 単価区分AB | O1: 助手なし | P1: 装置 | Q1: 装置規格
A2: 本庁 | B2: 業者 | C2: ロータリ除雪車 | D2: 30kw | E2: 60kw | F2: 90kw | G2: 180kw | H2: 220kw | L2: 15 | M2: なし | N2: A | O2: 助手なし | P2: Aプラウ | Q2: 3～4t
A3: 川西 | B3: 個人 | C3: 除雪ドーザ(車輪式) | D3: 3～4t | E3: 5～7t | F3: 8t | G3: 11t | H3: 13～14t | I3: 16～18t | L3: 13.5 | M3: 1次 | N3: B | P3: SAプラウ | Q3: 5～7t
A4: 中里 | B4: 貸与 | C4: 除雪グレーダ | D4: 3.7m | L4: 999 | M4: 2次 | P4: マルチプラウ | Q4: 8～9t
A5: 松代 | C5: 除雪ドーザ(履帯式) | D5: 4～5t | E5: 7～9t | F5: 10t | G5: 11～13t | H5: 15～17t | I5: 19～21t | L5: 12.5 | M5: 3次以上 | P5: スノーバケット | Q5: 11t
A6: 松之山 | C6: 小型除雪機(ﾊﾝﾄﾞｶﾞｲﾄﾞ式)ガソリン式 | D6: 9kw | E6: 12kw | F6: 15kw | G6: 22kw | L6: 14 | Q6: 13～14t
C7: 小型除雪機(ﾊﾝﾄﾞｶﾞｲﾄﾞ式) | D7: 12kw | E7: 18kw | F7: 28kw | L7: 14 | Q7: 16t
C8: ﾀﾞﾝﾌﾟﾄﾗｯｸ | D8: 0.75t | E8: 2t | F8: 4t | G8: 6～7t | H8: 10t | I8: 嵩上げt | L8: 10 | Q8: 18～19t
C9: バックホウ | D9: 0.08～0.11㎥ | E9: 0.13～0.16㎥ | F9: 0.28㎥ | G9: 0.45㎥ | H9: 0.5～0.6㎥ | I9: 0.8㎥ | J9: 1.0～1.1㎥ | K9: 1.4㎥ | L9: 10 | Q9: 山積0.8～1.0㎥
C10: 凍結防止剤散布作業(散布装置・トラック) | L10: 999 | Q10: 1.2～1.4㎥
Q11: 1.5～2.0㎥
Q12: 2.1～2.3㎥
Q13: 2.4～2.6㎥
Q14: 2.7～3.3㎥
Q15: 3.4～4.0㎥
